BEGIN:VCALENDAR
VERSION:2.0
BEGIN:VEVENT
DTSTART;VALUE=DATE:20260509
DTEND;VALUE=DATE:20260510
SUMMARY: Musée de la main - Complet - Ateliers en famille avec enfants de 6-10 ans
END:VEVENT
END:VCALENDAR